BEGIN:VCALENDAR
VERSION:2.0
PRODID:-//Fotogruppe Bad Staffelstein - ECPv6.15.20//NONSGML v1.0//EN
CALSCALE:GREGORIAN
METHOD:PUBLISH
X-WR-CALNAME:Fotogruppe Bad Staffelstein
X-ORIGINAL-URL:https://fotogruppe-bad-ste.de
X-WR-CALDESC:Veranstaltungen für Fotogruppe Bad Staffelstein
REFRESH-INTERVAL;VALUE=DURATION:PT1H
X-Robots-Tag:noindex
X-PUBLISHED-TTL:PT1H
BEGIN:VTIMEZONE
TZID:Europe/Berlin
BEGIN:DAYLIGHT
TZOFFSETFROM:+0100
TZOFFSETTO:+0200
TZNAME:CEST
DTSTART:20240331T010000
END:DAYLIGHT
BEGIN:STANDARD
TZOFFSETFROM:+0200
TZOFFSETTO:+0100
TZNAME:CET
DTSTART:20241027T010000
END:STANDARD
BEGIN:DAYLIGHT
TZOFFSETFROM:+0100
TZOFFSETTO:+0200
TZNAME:CEST
DTSTART:20250330T010000
END:DAYLIGHT
BEGIN:STANDARD
TZOFFSETFROM:+0200
TZOFFSETTO:+0100
TZNAME:CET
DTSTART:20251026T010000
END:STANDARD
BEGIN:DAYLIGHT
TZOFFSETFROM:+0100
TZOFFSETTO:+0200
TZNAME:CEST
DTSTART:20260329T010000
END:DAYLIGHT
BEGIN:STANDARD
TZOFFSETFROM:+0200
TZOFFSETTO:+0100
TZNAME:CET
DTSTART:20261025T010000
END:STANDARD
END:VTIMEZONE
BEGIN:VEVENT
DTSTART;VALUE=DATE:20250417
DTEND;VALUE=DATE:20250428
DTSTAMP:20260421T121831
CREATED:20250402T103731Z
LAST-MODIFIED:20250402T103731Z
UID:6649-1744848000-1745798399@fotogruppe-bad-ste.de
SUMMARY:Weißenburger Fototage
DESCRIPTION:Alle Informationen auf der Internetseite der Weißenburger Fototage.
URL:https://fotogruppe-bad-ste.de/event/weissenburger-fototage
LOCATION:Kunstschranne Weißenburg\, An der Schranne 12\, Weißenburg\, 91781\, Germany
END:VEVENT
BEGIN:VEVENT
DTSTART;TZID=Europe/Berlin:20250424T190000
DTEND;TZID=Europe/Berlin:20250424T210000
DTSTAMP:20260421T121831
CREATED:20241022T191855Z
LAST-MODIFIED:20250214T055312Z
UID:6258-1745521200-1745528400@fotogruppe-bad-ste.de
SUMMARY:Fotostammtisch
DESCRIPTION:findet im Ausweichraum im Keller statt! \nThemen je nach Interesse der Teilnehmer\, Möglichkeit zur Bildbesprechung.
URL:https://fotogruppe-bad-ste.de/event/fotostammtisch-9
LOCATION:Angerstübla\, Angerstr. 57\, Bad Staffelstein\, 96231\, Deutschland
CATEGORIES:Fotostammtisch
END:VEVENT
END:VCALENDAR