BEGIN:VCALENDAR
VERSION:2.0
PRODID:-//Fotogruppe Bad Staffelstein - ECPv6.15.20//NONSGML v1.0//EN
CALSCALE:GREGORIAN
METHOD:PUBLISH
X-ORIGINAL-URL:https://fotogruppe-bad-ste.de
X-WR-CALDESC:Veranstaltungen für Fotogruppe Bad Staffelstein
REFRESH-INTERVAL;VALUE=DURATION:PT1H
X-Robots-Tag:noindex
X-PUBLISHED-TTL:PT1H
BEGIN:VTIMEZONE
TZID:Europe/Berlin
BEGIN:DAYLIGHT
TZOFFSETFROM:+0100
TZOFFSETTO:+0200
TZNAME:CEST
DTSTART:20250330T010000
END:DAYLIGHT
BEGIN:STANDARD
TZOFFSETFROM:+0200
TZOFFSETTO:+0100
TZNAME:CET
DTSTART:20251026T010000
END:STANDARD
BEGIN:DAYLIGHT
TZOFFSETFROM:+0100
TZOFFSETTO:+0200
TZNAME:CEST
DTSTART:20260329T010000
END:DAYLIGHT
BEGIN:STANDARD
TZOFFSETFROM:+0200
TZOFFSETTO:+0100
TZNAME:CET
DTSTART:20261025T010000
END:STANDARD
BEGIN:DAYLIGHT
TZOFFSETFROM:+0100
TZOFFSETTO:+0200
TZNAME:CEST
DTSTART:20270328T010000
END:DAYLIGHT
BEGIN:STANDARD
TZOFFSETFROM:+0200
TZOFFSETTO:+0100
TZNAME:CET
DTSTART:20271031T010000
END:STANDARD
END:VTIMEZONE
BEGIN:VEVENT
DTSTART;TZID=Europe/Berlin:20260117T100000
DTEND;TZID=Europe/Berlin:20260117T160000
DTSTAMP:20260420T104653
CREATED:20251114T171250Z
LAST-MODIFIED:20251114T171250Z
UID:8050-1768644000-1768665600@fotogruppe-bad-ste.de
SUMMARY:Fototour: Lost Place "Weißer Hirsch"
DESCRIPTION:Für die angemeldeten Teilnehmer geht es nach Thüringen\, um das Hotel „Weißer Hirsch“ ab 10 Uhr fotografisch zu erkunden.  \nIm Anschluss treffen wir uns noch zum gemütlichen Beisammensein im Cafe Holub in Schwarzburg. \nTreffpunkt Angerstübla\, wir bilden Fahrgemeinschaften.
URL:https://fotogruppe-bad-ste.de/event/fototour-lost-place-weisser-hirsch
LOCATION:Angerstübla\, Angerstr. 57\, Bad Staffelstein\, 96231\, Deutschland
CATEGORIES:Fototour
END:VEVENT
END:VCALENDAR