BEGIN:VCALENDAR
VERSION:2.0
PRODID:-//Fotogruppe Bad Staffelstein - ECPv6.15.20//NONSGML v1.0//EN
CALSCALE:GREGORIAN
METHOD:PUBLISH
X-WR-CALNAME:Fotogruppe Bad Staffelstein
X-ORIGINAL-URL:https://fotogruppe-bad-ste.de
X-WR-CALDESC:Veranstaltungen für Fotogruppe Bad Staffelstein
REFRESH-INTERVAL;VALUE=DURATION:PT1H
X-Robots-Tag:noindex
X-PUBLISHED-TTL:PT1H
BEGIN:VTIMEZONE
TZID:Europe/Berlin
BEGIN:DAYLIGHT
TZOFFSETFROM:+0100
TZOFFSETTO:+0200
TZNAME:CEST
DTSTART:20250330T010000
END:DAYLIGHT
BEGIN:STANDARD
TZOFFSETFROM:+0200
TZOFFSETTO:+0100
TZNAME:CET
DTSTART:20251026T010000
END:STANDARD
BEGIN:DAYLIGHT
TZOFFSETFROM:+0100
TZOFFSETTO:+0200
TZNAME:CEST
DTSTART:20260329T010000
END:DAYLIGHT
BEGIN:STANDARD
TZOFFSETFROM:+0200
TZOFFSETTO:+0100
TZNAME:CET
DTSTART:20261025T010000
END:STANDARD
BEGIN:DAYLIGHT
TZOFFSETFROM:+0100
TZOFFSETTO:+0200
TZNAME:CEST
DTSTART:20270328T010000
END:DAYLIGHT
BEGIN:STANDARD
TZOFFSETFROM:+0200
TZOFFSETTO:+0100
TZNAME:CET
DTSTART:20271031T010000
END:STANDARD
END:VTIMEZONE
BEGIN:VEVENT
DTSTART;TZID=Europe/Berlin:20261029T190000
DTEND;TZID=Europe/Berlin:20261029T213000
DTSTAMP:20260422T190243
CREATED:20251025T155540Z
LAST-MODIFIED:20251025T155540Z
UID:7991-1793300400-1793309400@fotogruppe-bad-ste.de
SUMMARY:Fototour: Sternenhimmel
DESCRIPTION:Die Jahreszeit ist nicht optimal für die Milchstraße. Aber allgemein für das Thema Sternenhimmel ist es durch den frühen Einbruch der Nacht.Wir suchen einen passenden Ort (z. B. den hohlen Stein) und erliegen der Faszination des Sternenhimmels. \nNatürlich nur\, wenn das Wetter passt. Sonst machen wir einen Stammtisch 😉 \nTreffpunkt Angerstübla\, wir bilden Fahrgemeinschaften.
URL:https://fotogruppe-bad-ste.de/event/fototour-sternenhimmel
LOCATION:Angerstübla\, Angerstr. 57\, Bad Staffelstein\, 96231\, Deutschland
CATEGORIES:Fototour
END:VEVENT
END:VCALENDAR