BEGIN:VCALENDAR
VERSION:2.0
PRODID:-//Fotogruppe Bad Staffelstein - ECPv6.15.20//NONSGML v1.0//EN
CALSCALE:GREGORIAN
METHOD:PUBLISH
X-ORIGINAL-URL:https://fotogruppe-bad-ste.de
X-WR-CALDESC:Veranstaltungen für Fotogruppe Bad Staffelstein
REFRESH-INTERVAL;VALUE=DURATION:PT1H
X-Robots-Tag:noindex
X-PUBLISHED-TTL:PT1H
BEGIN:VTIMEZONE
TZID:Europe/Berlin
BEGIN:DAYLIGHT
TZOFFSETFROM:+0100
TZOFFSETTO:+0200
TZNAME:CEST
DTSTART:20250330T010000
END:DAYLIGHT
BEGIN:STANDARD
TZOFFSETFROM:+0200
TZOFFSETTO:+0100
TZNAME:CET
DTSTART:20251026T010000
END:STANDARD
BEGIN:DAYLIGHT
TZOFFSETFROM:+0100
TZOFFSETTO:+0200
TZNAME:CEST
DTSTART:20260329T010000
END:DAYLIGHT
BEGIN:STANDARD
TZOFFSETFROM:+0200
TZOFFSETTO:+0100
TZNAME:CET
DTSTART:20261025T010000
END:STANDARD
BEGIN:DAYLIGHT
TZOFFSETFROM:+0100
TZOFFSETTO:+0200
TZNAME:CEST
DTSTART:20270328T010000
END:DAYLIGHT
BEGIN:STANDARD
TZOFFSETFROM:+0200
TZOFFSETTO:+0100
TZNAME:CET
DTSTART:20271031T010000
END:STANDARD
END:VTIMEZONE
BEGIN:VEVENT
DTSTART;TZID=Europe/Berlin:20261217T180000
DTEND;TZID=Europe/Berlin:20261217T220000
DTSTAMP:20260424T123621
CREATED:20251025T160447Z
LAST-MODIFIED:20251025T160447Z
UID:8003-1797530400-1797544800@fotogruppe-bad-ste.de
SUMMARY:Weihnachtsfeier
DESCRIPTION:Unser Fotojahr geht zu Ende. Dafür treffen wir uns – gerne mit Partnern – wieder im stimmungsvoll geschmückten Angerstübla. Auch heuer werden wir unsere Gaumen verwöhnen und das vergangenen Fotojahr noch einmal Revue passieren lassen. \nDetails werden rechtzeitig bekanntgegeben. \nDies ist eine interne Veranstaltung ausschließlich für die angemeldeten Mitglieder.
URL:https://fotogruppe-bad-ste.de/event/weihnachtsfeier-2
LOCATION:Angerstübla\, Angerstr. 57\, Bad Staffelstein\, 96231\, Deutschland
CATEGORIES:Special
END:VEVENT
END:VCALENDAR