BEGIN:VCALENDAR
VERSION:2.0
PRODID:-//Fotogruppe Bad Staffelstein - ECPv6.15.20//NONSGML v1.0//EN
CALSCALE:GREGORIAN
METHOD:PUBLISH
X-ORIGINAL-URL:https://fotogruppe-bad-ste.de
X-WR-CALDESC:Veranstaltungen für Fotogruppe Bad Staffelstein
REFRESH-INTERVAL;VALUE=DURATION:PT1H
X-Robots-Tag:noindex
X-PUBLISHED-TTL:PT1H
BEGIN:VTIMEZONE
TZID:Europe/Berlin
BEGIN:DAYLIGHT
TZOFFSETFROM:+0100
TZOFFSETTO:+0200
TZNAME:CEST
DTSTART:20250330T010000
END:DAYLIGHT
BEGIN:STANDARD
TZOFFSETFROM:+0200
TZOFFSETTO:+0100
TZNAME:CET
DTSTART:20251026T010000
END:STANDARD
BEGIN:DAYLIGHT
TZOFFSETFROM:+0100
TZOFFSETTO:+0200
TZNAME:CEST
DTSTART:20260329T010000
END:DAYLIGHT
BEGIN:STANDARD
TZOFFSETFROM:+0200
TZOFFSETTO:+0100
TZNAME:CET
DTSTART:20261025T010000
END:STANDARD
BEGIN:DAYLIGHT
TZOFFSETFROM:+0100
TZOFFSETTO:+0200
TZNAME:CEST
DTSTART:20270328T010000
END:DAYLIGHT
BEGIN:STANDARD
TZOFFSETFROM:+0200
TZOFFSETTO:+0100
TZNAME:CET
DTSTART:20271031T010000
END:STANDARD
END:VTIMEZONE
BEGIN:VEVENT
DTSTART;TZID=Europe/Berlin:20261001T190000
DTEND;TZID=Europe/Berlin:20261001T210000
DTSTAMP:20260422T171640
CREATED:20251025T154935Z
LAST-MODIFIED:20251025T154935Z
UID:7985-1790881200-1790888400@fotogruppe-bad-ste.de
SUMMARY:Fotostammtisch
DESCRIPTION:Themen nach Interesse der Teilnehmer. Gelegenheit zur Bildbesprechung.
URL:https://fotogruppe-bad-ste.de/event/fotostammtisch-11
LOCATION:Angerstübla\, Angerstr. 57\, Bad Staffelstein\, 96231\, Deutschland
CATEGORIES:Fotostammtisch
END:VEVENT
BEGIN:VEVENT
DTSTART;VALUE=DATE:20261002
DTEND;VALUE=DATE:20261005
DTSTAMP:20260422T171640
CREATED:20251125T131717Z
LAST-MODIFIED:20251125T131717Z
UID:8115-1790899200-1791158399@fotogruppe-bad-ste.de
SUMMARY:Imaging World
DESCRIPTION:Messezentrum Nürnberg
URL:https://fotogruppe-bad-ste.de/event/imaging-world
LOCATION:Messe Nürnberg\, Messezentrum 1\, Nürnberg\, 90471\, Germany
CATEGORIES:externe Veranstaltung
END:VEVENT
BEGIN:VEVENT
DTSTART;TZID=Europe/Berlin:20261003T130000
DTEND;TZID=Europe/Berlin:20261003T170000
DTSTAMP:20260422T171640
CREATED:20251125T131809Z
LAST-MODIFIED:20251125T131809Z
UID:8118-1791032400-1791046800@fotogruppe-bad-ste.de
SUMMARY:Fahrt zur Messe "Imaging World"
DESCRIPTION:Messezentrum Nürnberg
URL:https://fotogruppe-bad-ste.de/event/fahrt-zur-messe-imaging-world-2
LOCATION:Messe Nürnberg\, Messezentrum 1\, Nürnberg\, 90471\, Germany
CATEGORIES:Fototour
END:VEVENT
BEGIN:VEVENT
DTSTART;TZID=Europe/Berlin:20261015T150000
DTEND;TZID=Europe/Berlin:20261015T210000
DTSTAMP:20260422T171640
CREATED:20251025T155244Z
LAST-MODIFIED:20251025T155244Z
UID:7988-1792076400-1792098000@fotogruppe-bad-ste.de
SUMMARY:Workshop: Food-Fotografie
DESCRIPTION:Das Angerstübla wird zum Fotostudio. Unsere Models? Wurst\, Käse\, Schinken\, Aufstriche\, Obst\, Gemüse. Schön drapiert und hergerichtet auf Brettchen\, Tellern. Dazu ein paar Accessoires wie Servietten\, Tischdeckchen\, Gläser usw. \nUnd das tollste? Hinterher futtern wir das alles gnadenlos auf!
URL:https://fotogruppe-bad-ste.de/event/workshop-food-fotografie
LOCATION:Angerstübla\, Angerstr. 57\, Bad Staffelstein\, 96231\, Deutschland
CATEGORIES:Workshop
END:VEVENT
BEGIN:VEVENT
DTSTART;TZID=Europe/Berlin:20261029T190000
DTEND;TZID=Europe/Berlin:20261029T213000
DTSTAMP:20260422T171640
CREATED:20251025T155540Z
LAST-MODIFIED:20251025T155540Z
UID:7991-1793300400-1793309400@fotogruppe-bad-ste.de
SUMMARY:Fototour: Sternenhimmel
DESCRIPTION:Die Jahreszeit ist nicht optimal für die Milchstraße. Aber allgemein für das Thema Sternenhimmel ist es durch den frühen Einbruch der Nacht.Wir suchen einen passenden Ort (z. B. den hohlen Stein) und erliegen der Faszination des Sternenhimmels. \nNatürlich nur\, wenn das Wetter passt. Sonst machen wir einen Stammtisch 😉 \nTreffpunkt Angerstübla\, wir bilden Fahrgemeinschaften.
URL:https://fotogruppe-bad-ste.de/event/fototour-sternenhimmel
LOCATION:Angerstübla\, Angerstr. 57\, Bad Staffelstein\, 96231\, Deutschland
CATEGORIES:Fototour
END:VEVENT
END:VCALENDAR